BEGIN:VCALENDAR
VERSION:2.0
PRODID:-//Eastern Goldfields College - ECPv6.10.1.1//NONSGML v1.0//EN
CALSCALE:GREGORIAN
METHOD:PUBLISH
X-WR-CALNAME:Eastern Goldfields College
X-ORIGINAL-URL:https://www.egc.wa.edu.au
X-WR-CALDESC:Events for Eastern Goldfields College
REFRESH-INTERVAL;VALUE=DURATION:PT1H
X-Robots-Tag:noindex
X-PUBLISHED-TTL:PT1H
BEGIN:VTIMEZONE
TZID:Australia/Perth
BEGIN:STANDARD
TZOFFSETFROM:+0800
TZOFFSETTO:+0800
TZNAME:AWST
DTSTART:20240101T000000
END:STANDARD
END:VTIMEZONE
BEGIN:VEVENT
DTSTART;TZID=Australia/Perth:20241028T080000
DTEND;TZID=Australia/Perth:20241101T170000
DTSTAMP:20260422T034648
CREATED:20240430T044259Z
LAST-MODIFIED:20240430T044332Z
UID:12389-1730102400-1730480400@www.egc.wa.edu.au
SUMMARY:Year 12 WACE Exams
DESCRIPTION:Year 12 West Australian Certificate of Education (WACE) Exams. \nTimetables will be published via connect.
URL:https://www.egc.wa.edu.au/event/year-12-wace-exams
CATEGORIES:Year 12
END:VEVENT
BEGIN:VEVENT
DTSTART;TZID=Australia/Perth:20241104T080000
DTEND;TZID=Australia/Perth:20241108T170000
DTSTAMP:20260422T034648
CREATED:20240430T044431Z
LAST-MODIFIED:20240430T044433Z
UID:12393-1730707200-1731085200@www.egc.wa.edu.au
SUMMARY:Year 12 WACE Exams
DESCRIPTION:Year 12 West Australian Certificate of Education (WACE) Exams.\n\nTimetables will be published via connect.
URL:https://www.egc.wa.edu.au/event/year-12-wace-exams-2
CATEGORIES:Year 12
END:VEVENT
BEGIN:VEVENT
DTSTART;TZID=Australia/Perth:20241108T120000
DTEND;TZID=Australia/Perth:20241108T133000
DTSTAMP:20260422T034648
CREATED:20241009T003855Z
LAST-MODIFIED:20241009T003856Z
UID:12587-1731067200-1731072600@www.egc.wa.edu.au
SUMMARY:Year 11 Assembly and end of the year lunch
DESCRIPTION:Year 11 Assembly – second half Period 4 – followed by lunch in student services for the end of the year.
URL:https://www.egc.wa.edu.au/event/year-11-assembly-and-end-of-the-year-lunch
LOCATION:Student Services
CATEGORIES:Year 11
END:VEVENT
BEGIN:VEVENT
DTSTART;TZID=Australia/Perth:20241111T080000
DTEND;TZID=Australia/Perth:20241115T170000
DTSTAMP:20260422T034648
CREATED:20240430T044533Z
LAST-MODIFIED:20240430T044534Z
UID:12396-1731312000-1731690000@www.egc.wa.edu.au
SUMMARY:Year 12 WACE Exams
DESCRIPTION:Year 12 West Australian Certificate of Education (WACE) Exams.\n\nTimetables will be published via connect.
URL:https://www.egc.wa.edu.au/event/year-12-wace-exams-3
CATEGORIES:Year 12
END:VEVENT
BEGIN:VEVENT
DTSTART;TZID=Australia/Perth:20241111T080000
DTEND;TZID=Australia/Perth:20241115T170000
DTSTAMP:20260422T034648
CREATED:20240430T044749Z
LAST-MODIFIED:20240430T044749Z
UID:12399-1731312000-1731690000@www.egc.wa.edu.au
SUMMARY:Year 11 Exams
DESCRIPTION:Year 11 Semester 2 Exams.\n\nTimetable will be published on connect.
URL:https://www.egc.wa.edu.au/event/year-11-exams-8
CATEGORIES:Year 11
END:VEVENT
BEGIN:VEVENT
DTSTART;TZID=Australia/Perth:20241118T080000
DTEND;TZID=Australia/Perth:20241122T170000
DTSTAMP:20260422T034648
CREATED:20240430T044830Z
LAST-MODIFIED:20240430T044832Z
UID:12402-1731916800-1732294800@www.egc.wa.edu.au
SUMMARY:Year 11 Semester 2 Exams
DESCRIPTION:Year 11 Semester 2 Exams.\n\nTimetable will be published on connect.
URL:https://www.egc.wa.edu.au/event/year-11-semester-2-exams
CATEGORIES:Year 11
END:VEVENT
BEGIN:VEVENT
DTSTART;TZID=Australia/Perth:20241128T080000
DTEND;TZID=Australia/Perth:20241129T170000
DTSTAMP:20260422T034648
CREATED:20240430T045046Z
LAST-MODIFIED:20240430T045047Z
UID:12405-1732780800-1732899600@www.egc.wa.edu.au
SUMMARY:Year 11 ATAR Feedback and Preparation for 2025
DESCRIPTION:Year 11 Semester 2 Exam Feedback and preparation for 2025.\n\n 
URL:https://www.egc.wa.edu.au/event/year-11-atar-feedback-and-preparation-for-2025
CATEGORIES:Year 11
END:VEVENT
END:VCALENDAR