BEGIN:VCALENDAR
VERSION:2.0
PRODID:-//Eastern Goldfields College - ECPv6.10.1.1//NONSGML v1.0//EN
CALSCALE:GREGORIAN
METHOD:PUBLISH
X-WR-CALNAME:Eastern Goldfields College
X-ORIGINAL-URL:https://www.egc.wa.edu.au
X-WR-CALDESC:Events for Eastern Goldfields College
REFRESH-INTERVAL;VALUE=DURATION:PT1H
X-Robots-Tag:noindex
X-PUBLISHED-TTL:PT1H
BEGIN:VTIMEZONE
TZID:Australia/Perth
BEGIN:STANDARD
TZOFFSETFROM:+0800
TZOFFSETTO:+0800
TZNAME:AWST
DTSTART:20250101T000000
END:STANDARD
END:VTIMEZONE
BEGIN:VEVENT
DTSTART;TZID=Australia/Perth:20250219T090000
DTEND;TZID=Australia/Perth:20250219T100000
DTSTAMP:20260425T182729
CREATED:20250211T060334Z
LAST-MODIFIED:20250211T060334Z
UID:12649-1739955600-1739959200@www.egc.wa.edu.au
SUMMARY:Welcome Breakfast
DESCRIPTION:Organised by the Student Council & Wellbeing Team\n\nheld in Student Services\n\n 
URL:https://www.egc.wa.edu.au/event/welcome-breakfast
END:VEVENT
BEGIN:VEVENT
DTSTART;TZID=Australia/Perth:20250303T000000
DTEND;TZID=Australia/Perth:20250303T235959
DTSTAMP:20260425T182729
CREATED:20250211T055946Z
LAST-MODIFIED:20250211T055946Z
UID:12645-1740960000-1741046399@www.egc.wa.edu.au
SUMMARY:Labour Day Public Holiday
DESCRIPTION:
URL:https://www.egc.wa.edu.au/event/labour-day-public-holiday-2
END:VEVENT
BEGIN:VEVENT
DTSTART;TZID=Australia/Perth:20250405T190000
DTEND;TZID=Australia/Perth:20250405T190000
DTSTAMP:20260425T182729
CREATED:20250211T060757Z
LAST-MODIFIED:20250211T060758Z
UID:12654-1743879600-1743879600@www.egc.wa.edu.au
SUMMARY:College Ball
DESCRIPTION:More information TBC
URL:https://www.egc.wa.edu.au/event/college-ball-3
END:VEVENT
END:VCALENDAR