BEGIN:VCALENDAR
VERSION:2.0
PRODID:-//Eastern Goldfields College - ECPv6.10.1.1//NONSGML v1.0//EN
CALSCALE:GREGORIAN
METHOD:PUBLISH
X-ORIGINAL-URL:https://www.egc.wa.edu.au
X-WR-CALDESC:Events for Eastern Goldfields College
REFRESH-INTERVAL;VALUE=DURATION:PT1H
X-Robots-Tag:noindex
X-PUBLISHED-TTL:PT1H
BEGIN:VTIMEZONE
TZID:Australia/Perth
BEGIN:STANDARD
TZOFFSETFROM:+0800
TZOFFSETTO:+0800
TZNAME:AWST
DTSTART:20220101T000000
END:STANDARD
END:VTIMEZONE
BEGIN:VEVENT
DTSTART;TZID=Australia/Perth:20221024T190000
DTEND;TZID=Australia/Perth:20221024T213000
DTSTAMP:20260421T133743
CREATED:20220925T031301Z
LAST-MODIFIED:20220925T031325Z
UID:11779-1666638000-1666647000@www.egc.wa.edu.au
SUMMARY:Valedictory for Year 12
DESCRIPTION:Year 12 Valedictory is held at the Goldfields Arts Centre from 7pm sharp Students can arrive early to get professional family photos taken in the function room from 5:30pm.
URL:https://www.egc.wa.edu.au/event/valedictory-for-year-12
LOCATION:Goldfields Arts Centre
END:VEVENT
BEGIN:VEVENT
DTSTART;TZID=Australia/Perth:20230125T083000
DTEND;TZID=Australia/Perth:20230125T153000
DTSTAMP:20260421T133743
CREATED:20221214T045155Z
LAST-MODIFIED:20221214T045156Z
UID:11821-1674635400-1674660600@www.egc.wa.edu.au
SUMMARY:Office Opens
DESCRIPTION:Office is open from 8:30am to 3:30pm today
URL:https://www.egc.wa.edu.au/event/office-opens-3
END:VEVENT
BEGIN:VEVENT
DTSTART;TZID=Australia/Perth:20230130T000000
DTEND;TZID=Australia/Perth:20230131T235959
DTSTAMP:20260421T133743
CREATED:20230131T004815Z
LAST-MODIFIED:20230131T004816Z
UID:11899-1675036800-1675209599@www.egc.wa.edu.au
SUMMARY:School Development Day - Staff
DESCRIPTION:School Development day starts at 8:20am in 712 205/206 each day.
URL:https://www.egc.wa.edu.au/event/school-development-day-staff-2
END:VEVENT
BEGIN:VEVENT
DTSTART;TZID=Australia/Perth:20230201T000000
DTEND;TZID=Australia/Perth:20230201T235959
DTSTAMP:20260421T133743
CREATED:20221214T045025Z
LAST-MODIFIED:20221214T045026Z
UID:11818-1675209600-1675295999@www.egc.wa.edu.au
SUMMARY:Students Commence Today
DESCRIPTION:Welcome all students to Eastern Goldfields College\n\nAssembly commences at 8:20am sharp in the Goldfields Arts Centre
URL:https://www.egc.wa.edu.au/event/students-commence-today
END:VEVENT
BEGIN:VEVENT
DTSTART;TZID=Australia/Perth:20230201T173000
DTEND;TZID=Australia/Perth:20230201T183000
DTSTAMP:20260421T133743
CREATED:20221214T045320Z
LAST-MODIFIED:20221214T045321Z
UID:11824-1675272600-1675276200@www.egc.wa.edu.au
SUMMARY:VET - PARENTS NIGHT
DESCRIPTION:VET students and parents are invited to attend an information evening at Student Services from 5:30pm sharp
URL:https://www.egc.wa.edu.au/event/vet-parents-night
END:VEVENT
BEGIN:VEVENT
DTSTART;TZID=Australia/Perth:20230208T000000
DTEND;TZID=Australia/Perth:20230208T235959
DTSTAMP:20260421T133743
CREATED:20221214T045615Z
LAST-MODIFIED:20221214T045616Z
UID:11827-1675814400-1675900799@www.egc.wa.edu.au
SUMMARY:VET - INDUCTION DAY
DESCRIPTION:VET students induction day -All VET Students are required to attend an essential information/enrolment session. Please ensure you have writing equipment to take notes.\n\nWednesday 8 February\, 2023 from 8:30am in Student Services
URL:https://www.egc.wa.edu.au/event/vet-induction-day-3
END:VEVENT
BEGIN:VEVENT
DTSTART;TZID=Australia/Perth:20230208T080000
DTEND;TZID=Australia/Perth:20230208T170000
DTSTAMP:20260421T133743
CREATED:20221214T045852Z
LAST-MODIFIED:20221214T045853Z
UID:11833-1675843200-1675875600@www.egc.wa.edu.au
SUMMARY:Wednesday Workshop
DESCRIPTION:
URL:https://www.egc.wa.edu.au/event/wednesday-workshop-33
END:VEVENT
BEGIN:VEVENT
DTSTART;TZID=Australia/Perth:20230208T090000
DTEND;TZID=Australia/Perth:20230208T110000
DTSTAMP:20260421T133743
CREATED:20230131T001911Z
LAST-MODIFIED:20230131T001911Z
UID:11842-1675846800-1675854000@www.egc.wa.edu.au
SUMMARY:Wednesday Workshop - OLNA Support
DESCRIPTION:OLNA Support \n\nPreparation to help pass OLNA. Individual tutoring\, practice test & writing workshops.\nMrs. Kingston\n\nMrs. Fowler\n9:00 – 11:00\n\n9:00 – 11:00\nROOM: 712106\n\nROOM: 712107
URL:https://www.egc.wa.edu.au/event/wednesday-workshop-olna-support
END:VEVENT
BEGIN:VEVENT
DTSTART;TZID=Australia/Perth:20230210T080000
DTEND;TZID=Australia/Perth:20230210T170000
DTSTAMP:20260421T133743
CREATED:20221214T045724Z
LAST-MODIFIED:20221214T045725Z
UID:11830-1676016000-1676048400@www.egc.wa.edu.au
SUMMARY:Last Day for Semester 1 Changes
DESCRIPTION:Today is the last day for Semester 1 changes
URL:https://www.egc.wa.edu.au/event/last-day-for-semester-1-changes-2
END:VEVENT
BEGIN:VEVENT
DTSTART;TZID=Australia/Perth:20230215T083000
DTEND;TZID=Australia/Perth:20230215T103000
DTSTAMP:20260421T133743
CREATED:20230131T003949Z
LAST-MODIFIED:20230131T003949Z
UID:11886-1676449800-1676457000@www.egc.wa.edu.au
SUMMARY:Study Skills Workshop
DESCRIPTION:Study skills with Curtin Uni\n\nLearn study skills to match your learning style. Study planners & the Cornell note taking system\nCurtin Uni\n\n \n 8:30 – 10.30\nROOM: 712104\n\n 
URL:https://www.egc.wa.edu.au/event/study-skills-workshop
END:VEVENT
BEGIN:VEVENT
DTSTART;TZID=Australia/Perth:20230215T090000
DTEND;TZID=Australia/Perth:20230215T110000
DTSTAMP:20260421T133743
CREATED:20230131T002118Z
LAST-MODIFIED:20230131T002118Z
UID:11845-1676451600-1676458800@www.egc.wa.edu.au
SUMMARY:Wednesday Workshop - OLNA Support
DESCRIPTION:OLNA Support \n\nPreparation to help pass OLNA. Individual tutoring\, practice test & writing workshops.\nMrs. Kingston\n\nMrs. Fowler\n9:00 – 11:00\n\n9:00 – 11:00\nROOM: 712106\n\nROOM: 712107
URL:https://www.egc.wa.edu.au/event/wednesday-workshop-olna-support-2
END:VEVENT
BEGIN:VEVENT
DTSTART;TZID=Australia/Perth:20230215T103000
DTEND;TZID=Australia/Perth:20230215T113000
DTSTAMP:20260421T133743
CREATED:20230131T004141Z
LAST-MODIFIED:20230131T004142Z
UID:11889-1676457000-1676460600@www.egc.wa.edu.au
SUMMARY:University & Applications Scholarships Workshop
DESCRIPTION:University applications & scholarships\n\nDirect entry to all 5 WA universities explained including early offers. How to complete TISC preferences\n\nFinding & completing scholarship applications.\nCurtin Uni\n10.30 – 11.30\nROOM: 712104\n\n 
URL:https://www.egc.wa.edu.au/event/university-applications-scholarships-workshop
END:VEVENT
BEGIN:VEVENT
DTSTART;TZID=Australia/Perth:20230215T113000
DTEND;TZID=Australia/Perth:20230215T123000
DTSTAMP:20260421T133743
CREATED:20230131T002907Z
LAST-MODIFIED:20230131T002926Z
UID:11861-1676460600-1676464200@www.egc.wa.edu.au
SUMMARY:Ball Dance Practice
DESCRIPTION:Ball Dance Practice  Year 12 dance practice for the floorshow at the Met Gala College Ball\nMr. Chidlow\n11.30 – 12.30\nArts Centre dance studio (meet on steps)
URL:https://www.egc.wa.edu.au/event/ball-dance-practice-5
END:VEVENT
BEGIN:VEVENT
DTSTART;TZID=Australia/Perth:20230215T113000
DTEND;TZID=Australia/Perth:20230215T123000
DTSTAMP:20260421T133743
CREATED:20230131T003251Z
LAST-MODIFIED:20230131T003252Z
UID:11875-1676460600-1676464200@www.egc.wa.edu.au
SUMMARY:Ball Dance Practice
DESCRIPTION:Ball Dance Practice \n\nYear 12 dance practice for the floorshow at the Met Gala College Ball\nMr. Chidlow\n11.30 – 12.30\nArts Centre dance studio (meet on steps)
URL:https://www.egc.wa.edu.au/event/ball-dance-practice-9
END:VEVENT
BEGIN:VEVENT
DTSTART;TZID=Australia/Perth:20230222T090000
DTEND;TZID=Australia/Perth:20230222T110000
DTSTAMP:20260421T133743
CREATED:20230131T002200Z
LAST-MODIFIED:20230131T002201Z
UID:11848-1677056400-1677063600@www.egc.wa.edu.au
SUMMARY:Wednesday Workshop - OLNA Support
DESCRIPTION:OLNA Support \n\nPreparation to help pass OLNA. Individual tutoring\, practice test & writing workshops.\nMrs. Kingston\n\nMrs. Fowler\n9:00 – 11:00\n\n9:00 – 11:00\nROOM: 712106\n\nROOM: 712107
URL:https://www.egc.wa.edu.au/event/wednesday-workshop-olna-support-3
END:VEVENT
BEGIN:VEVENT
DTSTART;TZID=Australia/Perth:20230222T113000
DTEND;TZID=Australia/Perth:20230222T123000
DTSTAMP:20260421T133743
CREATED:20230131T003010Z
LAST-MODIFIED:20230131T003026Z
UID:11865-1677065400-1677069000@www.egc.wa.edu.au
SUMMARY:Ball Dance Practice
DESCRIPTION:Ball Dance Practice  Year 12 dance practice for the floorshow at the Met Gala College Ball\nMr. Chidlow\n11.30 – 12.30\nArts Centre dance studio (meet on steps)
URL:https://www.egc.wa.edu.au/event/ball-dance-practice-6
END:VEVENT
BEGIN:VEVENT
DTSTART;TZID=Australia/Perth:20230301T090000
DTEND;TZID=Australia/Perth:20230301T110000
DTSTAMP:20260421T133743
CREATED:20230131T002304Z
LAST-MODIFIED:20230131T002305Z
UID:11851-1677661200-1677668400@www.egc.wa.edu.au
SUMMARY:Wednesday Workshop - OLNA Support
DESCRIPTION:OLNA Support \n\nPreparation to help pass OLNA. Individual tutoring\, practice test & writing workshops.\nMrs. Kingston\n\nMrs. Fowler\n9:00 – 11:00\n\n9:00 – 11:00\nROOM: 712106\n\nROOM: 712107
URL:https://www.egc.wa.edu.au/event/wednesday-workshop-olna-support-4
END:VEVENT
BEGIN:VEVENT
DTSTART;TZID=Australia/Perth:20230301T113000
DTEND;TZID=Australia/Perth:20230301T123000
DTSTAMP:20260421T133743
CREATED:20230131T003121Z
LAST-MODIFIED:20230131T003122Z
UID:11869-1677670200-1677673800@www.egc.wa.edu.au
SUMMARY:Ball Dance Practice
DESCRIPTION:Ball Dance Practice \n\nYear 12 dance practice for the floorshow at the Met Gala College Ball\nMr. Chidlow\n11.30 – 12.30\nArts Centre dance studio (meet on steps)
URL:https://www.egc.wa.edu.au/event/ball-dance-practice-7
END:VEVENT
BEGIN:VEVENT
DTSTART;TZID=Australia/Perth:20230308T090000
DTEND;TZID=Australia/Perth:20230308T110000
DTSTAMP:20260421T133743
CREATED:20230131T002348Z
LAST-MODIFIED:20230131T002348Z
UID:11854-1678266000-1678273200@www.egc.wa.edu.au
SUMMARY:Wednesday Workshop - OLNA Support
DESCRIPTION:OLNA Support \n\nPreparation to help pass OLNA. Individual tutoring\, practice test & writing workshops.\nMrs. Kingston\n\nMrs. Fowler\n9:00 – 11:00\n\n9:00 – 11:00\nROOM: 712106\n\nROOM: 712107
URL:https://www.egc.wa.edu.au/event/wednesday-workshop-olna-support-5
END:VEVENT
BEGIN:VEVENT
DTSTART;TZID=Australia/Perth:20230308T113000
DTEND;TZID=Australia/Perth:20230308T123000
DTSTAMP:20260421T133743
CREATED:20230131T003207Z
LAST-MODIFIED:20230131T003208Z
UID:11872-1678275000-1678278600@www.egc.wa.edu.au
SUMMARY:Ball Dance Practice
DESCRIPTION:Ball Dance Practice \n\nYear 12 dance practice for the floorshow at the Met Gala College Ball\nMr. Chidlow\n11.30 – 12.30\nArt Centre dance studio (meet on steps)
URL:https://www.egc.wa.edu.au/event/ball-dance-practice-8
END:VEVENT
BEGIN:VEVENT
DTSTART;TZID=Australia/Perth:20230315T123000
DTEND;TZID=Australia/Perth:20230315T133000
DTSTAMP:20260421T133743
CREATED:20230131T010927Z
LAST-MODIFIED:20230313T004925Z
UID:11905-1678883400-1678887000@www.egc.wa.edu.au
SUMMARY:Ball Dance Practice
DESCRIPTION:Ball Dance Practice  Year 12 dance practice for the floorshow at the Met Gala College Ball.\nMr. Chidlow\n12:30-1:30pm\nArts Centre dance studio
URL:https://www.egc.wa.edu.au/event/ball-dance-practice-11
END:VEVENT
BEGIN:VEVENT
DTSTART;TZID=Australia/Perth:20230322T123000
DTEND;TZID=Australia/Perth:20230322T133000
DTSTAMP:20260421T133743
CREATED:20230131T003352Z
LAST-MODIFIED:20230313T004826Z
UID:11878-1679488200-1679491800@www.egc.wa.edu.au
SUMMARY:Ball Dance Practice
DESCRIPTION:Ball Dance Practice  Year 12 dance practice for the floorshow at the Met Gala College Ball\nMr. Chidlow\n12:30 – 1:30pm\nArts Centre dance studio (meet on steps)
URL:https://www.egc.wa.edu.au/event/ball-dance-practice-10
END:VEVENT
BEGIN:VEVENT
DTSTART;TZID=Australia/Perth:20230329T083000
DTEND;TZID=Australia/Perth:20230329T093000
DTSTAMP:20260421T133743
CREATED:20230131T004314Z
LAST-MODIFIED:20230131T004315Z
UID:11892-1680078600-1680082200@www.egc.wa.edu.au
SUMMARY:Student - University Roadshow Workshop
DESCRIPTION:Student – University Roadshow\n\nRepresentatives from WA Universities present information about\n\n·         Pathways\, Application process\n\n·         Accommodation\, University lingo\, University life\nCurtin\n\nMurdoch\n\nECU\n\nUWA\n\n \n\nJulie Langmead\n 8:30 – 9:30\n\n \nROOM: 712205\n\n 
URL:https://www.egc.wa.edu.au/event/student-university-roadshow-workshop
END:VEVENT
BEGIN:VEVENT
DTSTART;TZID=Australia/Perth:20230329T093000
DTEND;TZID=Australia/Perth:20230329T103000
DTSTAMP:20260421T133743
CREATED:20230131T004440Z
LAST-MODIFIED:20230131T004441Z
UID:11895-1680082200-1680085800@www.egc.wa.edu.au
SUMMARY:Workshop - Want to Study Medicine?
DESCRIPTION:Workshop – Want to Study Medicine?\n\n\n\nWant to study Medicine? \n\nStudents interested in Health & Medical Science – medicine\, dentistry\, podiatry Learn about pathways into medicine and the UCAT. Direct entry pathways into medicine.\nRural Clinical School – Toni Hawkins\n\n \n09.30 – 10.30\nROOM: 712205\n\n 
URL:https://www.egc.wa.edu.au/event/workshop-want-to-study-medicine
END:VEVENT
BEGIN:VEVENT
DTSTART;TZID=Australia/Perth:20230329T100000
DTEND;TZID=Australia/Perth:20230329T120000
DTSTAMP:20260421T133743
CREATED:20230131T003527Z
LAST-MODIFIED:20230131T003704Z
UID:11881-1680084000-1680091200@www.egc.wa.edu.au
SUMMARY:Ball FINAL Dance Practice
DESCRIPTION:Final Ball Dance Practice   \nPractice in the Town Hall     \n\n\nMr. Chidlow  \n\n\n10.00 – 12.00 \n\n\nTown Hall \nHannan St
URL:https://www.egc.wa.edu.au/event/ball-final-dance-practice
END:VEVENT
BEGIN:VEVENT
DTSTART;TZID=Australia/Perth:20230406T090000
DTEND;TZID=Australia/Perth:20230406T100000
DTSTAMP:20260421T133743
CREATED:20230403T040047Z
LAST-MODIFIED:20230403T040048Z
UID:11953-1680771600-1680775200@www.egc.wa.edu.au
SUMMARY:ANZAC Commemoration &  Term 1 Awards Presentation Assembly
DESCRIPTION:ANZAC & TERM 1 ACHIEVEMENT AWARDS ASSEMBLY\n\nDetails for the ANZAC and Term 1 Achievement Awards assembly – all classes need to be seated in the Arts Centre for a 9am start. If you have your class in the General Studies Block\, then please bring them from 8.50. If you are coming from the other end of the campus\, you will need to come a few minutes earlier. PLEASE SIT WITH YOUR CLASS IN THE AUDITORIUM. IF YOU DO NOT HAVE A CLASS AT THAT TIME\, PLEASE SUPPORT OTHER STAFF BY SCATTERING YOURSELVES THROUGH THE AUDITORIUM – PLEASE DO NOT SIT ALL TOGETHER AT THE BACK. \n\n Please remind students that their behaviour in the assembly should reflect the respect and remembrance that we show to the ANZACS and to all Australians who have been killed in military operations.\n\nAll bags should be left in rooms and rooms need to be locked.\n\nAt the end of the assembly\, students will return to class.
URL:https://www.egc.wa.edu.au/event/anzac-commemoration-term-1-awards-presentation-assembly
LOCATION:Goldfields Arts Centre
END:VEVENT
BEGIN:VEVENT
DTSTART;TZID=Australia/Perth:20230407T000000
DTEND;TZID=Australia/Perth:20230425T235959
DTSTAMP:20260421T133743
CREATED:20230403T040628Z
LAST-MODIFIED:20230403T041042Z
UID:11956-1680825600-1682467199@www.egc.wa.edu.au
SUMMARY:School Holidays
DESCRIPTION:Students commence term 1 holidays at 3:15 pm Thursday 6 April and return Wednesday  26 April (Workshops)\, classes commence Thursday 27 April at 8:20 am.
URL:https://www.egc.wa.edu.au/event/school-holidays-11
CATEGORIES:Holidays
END:VEVENT
BEGIN:VEVENT
DTSTART;TZID=Australia/Perth:20230424T000000
DTEND;TZID=Australia/Perth:20230424T235959
DTSTAMP:20260421T133743
CREATED:20230403T040722Z
LAST-MODIFIED:20230403T040722Z
UID:11959-1682294400-1682380799@www.egc.wa.edu.au
SUMMARY:Student Free Day
DESCRIPTION:Monday 24 April – Student Free Day\n\n 
URL:https://www.egc.wa.edu.au/event/student-free-day-2
END:VEVENT
BEGIN:VEVENT
DTSTART;TZID=Australia/Perth:20230425T000000
DTEND;TZID=Australia/Perth:20230425T235959
DTSTAMP:20260421T133743
CREATED:20230403T041204Z
LAST-MODIFIED:20230403T041752Z
UID:11965-1682380800-1682467199@www.egc.wa.edu.au
SUMMARY:Public Holiday - ANZAC Day
DESCRIPTION:PUBLIC HOLIDAY Tuesday 25 April – School closed
URL:https://www.egc.wa.edu.au/event/public-holiday-anzac-day-2
END:VEVENT
BEGIN:VEVENT
DTSTART;TZID=Australia/Perth:20230522T153000
DTEND;TZID=Australia/Perth:20230522T170000
DTSTAMP:20260421T133743
CREATED:20230403T044434Z
LAST-MODIFIED:20230403T044435Z
UID:11973-1684769400-1684774800@www.egc.wa.edu.au
SUMMARY:Year 12 ATAR Study Afternoon
DESCRIPTION:Year 12 ATAR Study Afternoon\n\nUpstairs HUB 3:30-5 pm
URL:https://www.egc.wa.edu.au/event/year-12-atar-study-afternoon-5
LOCATION:HUB
CATEGORIES:Year 12
END:VEVENT
END:VCALENDAR