BEGIN:VCALENDAR
VERSION:2.0
PRODID:-//Eastern Goldfields College - ECPv6.10.1.1//NONSGML v1.0//EN
CALSCALE:GREGORIAN
METHOD:PUBLISH
X-ORIGINAL-URL:https://www.egc.wa.edu.au
X-WR-CALDESC:Events for Eastern Goldfields College
REFRESH-INTERVAL;VALUE=DURATION:PT1H
X-Robots-Tag:noindex
X-PUBLISHED-TTL:PT1H
BEGIN:VTIMEZONE
TZID:Australia/Perth
BEGIN:STANDARD
TZOFFSETFROM:+0800
TZOFFSETTO:+0800
TZNAME:AWST
DTSTART:20200101T000000
END:STANDARD
END:VTIMEZONE
BEGIN:VEVENT
DTSTART;TZID=Australia/Perth:20231113T080000
DTEND;TZID=Australia/Perth:20231122T170000
DTSTAMP:20260420T092858
CREATED:20230905T022620Z
LAST-MODIFIED:20230905T022621Z
UID:12136-1699862400-1700672400@www.egc.wa.edu.au
SUMMARY:Year 11 Exams
DESCRIPTION:Year 11 Exams commence Monday 13 November to Wednesday 22 November
URL:https://www.egc.wa.edu.au/event/year-11-exams-5
CATEGORIES:Year 11
END:VEVENT
BEGIN:VEVENT
DTSTART;TZID=Australia/Perth:20231110T120000
DTEND;TZID=Australia/Perth:20231110T140000
DTSTAMP:20260420T092858
CREATED:20230905T025014Z
LAST-MODIFIED:20230905T025049Z
UID:12139-1699617600-1699624800@www.egc.wa.edu.au
SUMMARY:Year 11 Assembly and Farewell Lunch
DESCRIPTION:Year 11s last day of term 4 for students not sitting Semester 2 Exams   Assembly last half of Period 4 followed by lunch in Student Services  
URL:https://www.egc.wa.edu.au/event/year-11-assembly-and-farewell-lunch
LOCATION:Student Services
CATEGORIES:Year 11
END:VEVENT
BEGIN:VEVENT
DTSTART;TZID=Australia/Perth:20230615T080000
DTEND;TZID=Australia/Perth:20230615T170000
DTSTAMP:20260420T092858
CREATED:20230403T051043Z
LAST-MODIFIED:20230403T051044Z
UID:12018-1686816000-1686848400@www.egc.wa.edu.au
SUMMARY:Year 11 Commence Semester 2 classes
DESCRIPTION:
URL:https://www.egc.wa.edu.au/event/year-11-commence-semester-2-classes
CATEGORIES:Year 11
END:VEVENT
BEGIN:VEVENT
DTSTART;TZID=Australia/Perth:20230606T080000
DTEND;TZID=Australia/Perth:20230615T170000
DTSTAMP:20260420T092858
CREATED:20230403T050903Z
LAST-MODIFIED:20230403T050904Z
UID:12012-1686038400-1686848400@www.egc.wa.edu.au
SUMMARY:Year 11 Exams
DESCRIPTION:Year 11 Exams from Tuesday 6 June to Friday 15 June
URL:https://www.egc.wa.edu.au/event/year-11-exams-4
CATEGORIES:Year 11
END:VEVENT
BEGIN:VEVENT
DTSTART;TZID=Australia/Perth:20230530T153000
DTEND;TZID=Australia/Perth:20230530T170000
DTSTAMP:20260420T092858
CREATED:20230403T050213Z
LAST-MODIFIED:20230403T050322Z
UID:11998-1685460600-1685466000@www.egc.wa.edu.au
SUMMARY:Year 11 ATAR Study Afternoon
DESCRIPTION:tudy Afternoon in the HUB from 3:30pm to 5pm
URL:https://www.egc.wa.edu.au/event/year-11-atar
LOCATION:HUB
CATEGORIES:Year 11
END:VEVENT
BEGIN:VEVENT
DTSTART;TZID=Australia/Perth:20230529T153000
DTEND;TZID=Australia/Perth:20230529T170000
DTSTAMP:20260420T092858
CREATED:20230403T050132Z
LAST-MODIFIED:20230403T050300Z
UID:11995-1685374200-1685379600@www.egc.wa.edu.au
SUMMARY:Year 11 ATAR Study Afternoon
DESCRIPTION:Study Afternoon in the HUB from 3:30pm to 5pm\n\n 
URL:https://www.egc.wa.edu.au/event/year-11-atar-students
LOCATION:HUB
CATEGORIES:Year 11
END:VEVENT
BEGIN:VEVENT
DTSTART;TZID=Australia/Perth:20221010T080000
DTEND;TZID=Australia/Perth:20221010T170000
DTSTAMP:20260420T092858
CREATED:20220720T023828Z
LAST-MODIFIED:20220720T023829Z
UID:11679-1665388800-1665421200@www.egc.wa.edu.au
SUMMARY:School Commences for Term 4
DESCRIPTION:School starts today – Monday 10 October 2022 for Term 4
URL:https://www.egc.wa.edu.au/event/school-commences-for-term-4
LOCATION:Eastern Goldfields College\, Cassidy Street\, Kalgoorlie\, WA\, 6430\, Australia
CATEGORIES:Year 11,Year 12
END:VEVENT
BEGIN:VEVENT
DTSTART;TZID=Australia/Perth:20220825T090000
DTEND;TZID=Australia/Perth:20220825T150000
DTSTAMP:20260420T092858
CREATED:20220720T021550Z
LAST-MODIFIED:20220720T021550Z
UID:11666-1661418000-1661439600@www.egc.wa.edu.au
SUMMARY:Curtin Open Day
DESCRIPTION:Year 11 ATAR students are invited to Curtin Open Day\n\nThursday 25 August
URL:https://www.egc.wa.edu.au/event/curtin-open-day
LOCATION:Curtin
CATEGORIES:Year 11
END:VEVENT
BEGIN:VEVENT
DTSTART;TZID=Australia/Perth:20220625T190000
DTEND;TZID=Australia/Perth:20220625T230000
DTSTAMP:20260420T092858
CREATED:20220503T040930Z
LAST-MODIFIED:20220503T040931Z
UID:11622-1656183600-1656198000@www.egc.wa.edu.au
SUMMARY:Great  Gatsby - College Ball
DESCRIPTION:Eastern Goldfields College proudly presents the 2022 College Ball – Great Gatsby\n\nHeld at the Kalgoorlie Town Hall\n\nTickets available for purchase from the HUB $70 each\n\n7pm to 11pm\n\nAll EGC students are welcome – permission form to be signed.\n\n 
URL:https://www.egc.wa.edu.au/event/great-gatsby-college-ball
LOCATION:Kalgoorlie Town Hall
CATEGORIES:Year 11,Year 12
END:VEVENT
BEGIN:VEVENT
DTSTART;TZID=Australia/Perth:20220616T080000
DTEND;TZID=Australia/Perth:20220616T170000
DTSTAMP:20260420T092858
CREATED:20220502T063129Z
LAST-MODIFIED:20220502T063129Z
UID:11559-1655366400-1655398800@www.egc.wa.edu.au
SUMMARY:Year 11 Start Semester 2 Classes
DESCRIPTION:Semester 2 classes start today for year 11s
URL:https://www.egc.wa.edu.au/event/year-11-start-semester-2-classes
CATEGORIES:Year 11
END:VEVENT
BEGIN:VEVENT
DTSTART;TZID=Australia/Perth:20220607T080000
DTEND;TZID=Australia/Perth:20220616T170000
DTSTAMP:20260420T092858
CREATED:20220502T062532Z
LAST-MODIFIED:20220502T062533Z
UID:11547-1654588800-1655398800@www.egc.wa.edu.au
SUMMARY:Year 11 Exams
DESCRIPTION:Year 11 Exams 7 June to 16 June\, 2022
URL:https://www.egc.wa.edu.au/event/year-11-exams-3
CATEGORIES:Year 11
END:VEVENT
BEGIN:VEVENT
DTSTART;TZID=Australia/Perth:20220602T153000
DTEND;TZID=Australia/Perth:20220602T170000
DTSTAMP:20260420T092858
CREATED:20220502T042417Z
LAST-MODIFIED:20220502T042614Z
UID:11532-1654183800-1654189200@www.egc.wa.edu.au
SUMMARY:Year 11 ATAR Study Afternoon
DESCRIPTION:Year 11 ATAR Study Afternoon in the HUB after school to 5pm
URL:https://www.egc.wa.edu.au/event/year-11-atar-study-afternoon-3
LOCATION:HUB
CATEGORIES:Year 11
END:VEVENT
BEGIN:VEVENT
DTSTART;TZID=Australia/Perth:20220530T153000
DTEND;TZID=Australia/Perth:20220531T170000
DTSTAMP:20260420T092858
CREATED:20220502T042225Z
LAST-MODIFIED:20220502T042636Z
UID:11529-1653924600-1654016400@www.egc.wa.edu.au
SUMMARY:Year 11 ATAR Study Afternoon
DESCRIPTION:After School until 5 pm in the HUB
URL:https://www.egc.wa.edu.au/event/year-11-atar-study-afternoon-2
LOCATION:HUB
CATEGORIES:Year 11
END:VEVENT
BEGIN:VEVENT
DTSTART;TZID=Australia/Perth:20211115T080000
DTEND;TZID=Australia/Perth:20211123T170000
DTSTAMP:20260420T092858
CREATED:20211011T070737Z
LAST-MODIFIED:20211011T070738Z
UID:11159-1636963200-1637686800@www.egc.wa.edu.au
SUMMARY:Year 11 Exams
DESCRIPTION:Year 11 Exams 15-23 November\, 2021\n\n 
URL:https://www.egc.wa.edu.au/event/year-11-exams-2
CATEGORIES:Year 11
END:VEVENT
BEGIN:VEVENT
DTSTART;TZID=Australia/Perth:20211112T120000
DTEND;TZID=Australia/Perth:20211112T131000
DTSTAMP:20260420T092858
CREATED:20211011T070436Z
LAST-MODIFIED:20211011T070437Z
UID:11153-1636718400-1636722600@www.egc.wa.edu.au
SUMMARY:Year 11 Assembly followed by Sausage Sizzle
DESCRIPTION:Last day for Year 11s.\n\nThere will be an assembly during the second half of Period 4 followed by a sausage sizzle in Student Services.
URL:https://www.egc.wa.edu.au/event/year-11-assembly-followed-by-sausage-sizzle
LOCATION:Student Services
CATEGORIES:Year 11
END:VEVENT
BEGIN:VEVENT
DTSTART;TZID=Australia/Perth:20211111T153000
DTEND;TZID=Australia/Perth:20211111T170000
DTSTAMP:20260420T092858
CREATED:20211020T041112Z
LAST-MODIFIED:20211108T011548Z
UID:11187-1636644600-1636650000@www.egc.wa.edu.au
SUMMARY:Year 11 Study Afternoon
DESCRIPTION:Year 11s Study Afternoons will be 8\,9\, 11 November from 3:30pm to 5:00pm in the HUB
URL:https://www.egc.wa.edu.au/event/year-11-study-afternoon-2
LOCATION:HUB
CATEGORIES:Year 11
END:VEVENT
BEGIN:VEVENT
DTSTART;TZID=Australia/Perth:20211109T153000
DTEND;TZID=Australia/Perth:20211109T170000
DTSTAMP:20260420T092858
CREATED:20211020T041020Z
LAST-MODIFIED:20211108T011507Z
UID:11184-1636471800-1636477200@www.egc.wa.edu.au
SUMMARY:Year 11 Study Afternoon
DESCRIPTION:Year 11s Study Afternoons will be 8\,9\, 11 November from 3:30pm to 5:00pm in the HUB
URL:https://www.egc.wa.edu.au/event/year-11-study-afternoon
LOCATION:HUB
CATEGORIES:Year 11
END:VEVENT
BEGIN:VEVENT
DTSTART;TZID=Australia/Perth:20211108T153000
DTEND;TZID=Australia/Perth:20211108T170000
DTSTAMP:20260420T092858
CREATED:20211020T040910Z
LAST-MODIFIED:20211108T011627Z
UID:11181-1636385400-1636390800@www.egc.wa.edu.au
SUMMARY:Year 11 Study Afternoons
DESCRIPTION:Year 11s Study Afternoons will be 8\,9\, 11 November from 3:30pm to 5:00pm in the HUB
URL:https://www.egc.wa.edu.au/event/year-11-study-afternoons-2
LOCATION:HUB
CATEGORIES:Year 11
END:VEVENT
BEGIN:VEVENT
DTSTART;TZID=Australia/Perth:20211027T083000
DTEND;TZID=Australia/Perth:20211027T130000
DTSTAMP:20260420T092858
CREATED:20211018T032023Z
LAST-MODIFIED:20211018T032050Z
UID:11175-1635323400-1635339600@www.egc.wa.edu.au
SUMMARY:Year 11 Wednesday Workshop
DESCRIPTION:YEAR 11 SEMINARS \nYear 11 ATAR students preparations for exams. \nEnglish/Literature seminars on Wednesday 27 October from 8.30am to 1pm. \nRoom 712 205/206
URL:https://www.egc.wa.edu.au/event/year-11-wednesday-workshop
LOCATION:ROOM 712 205/206
CATEGORIES:Year 11
END:VEVENT
BEGIN:VEVENT
DTSTART;TZID=Australia/Perth:20210617T080000
DTEND;TZID=Australia/Perth:20210617T170000
DTSTAMP:20260420T092858
CREATED:20201208T041700Z
LAST-MODIFIED:20201208T041705Z
UID:10704-1623916800-1623949200@www.egc.wa.edu.au
SUMMARY:Year 11 commences semester 2 classes
DESCRIPTION:
URL:https://www.egc.wa.edu.au/event/year-11-commences-semester-2-classes
CATEGORIES:Year 11
END:VEVENT
BEGIN:VEVENT
DTSTART;TZID=Australia/Perth:20210608T080000
DTEND;TZID=Australia/Perth:20210616T170000
DTSTAMP:20260420T092858
CREATED:20201208T041536Z
LAST-MODIFIED:20201208T041541Z
UID:10702-1623139200-1623862800@www.egc.wa.edu.au
SUMMARY:Year 11 Exams
DESCRIPTION:
URL:https://www.egc.wa.edu.au/event/year-11-exams
LOCATION:ROOM 712 205/206
CATEGORIES:Year 11
END:VEVENT
BEGIN:VEVENT
DTSTART;TZID=Australia/Perth:20210531T153000
DTEND;TZID=Australia/Perth:20210604T170000
DTSTAMP:20260420T092858
CREATED:20201208T041225Z
LAST-MODIFIED:20201215T065511Z
UID:10696-1622475000-1622826000@www.egc.wa.edu.au
SUMMARY:Year 11 ATAR Study Afternoon
DESCRIPTION:Year 11s ATAR study afternoon held in the HUB from 3:30pm to 5pm
URL:https://www.egc.wa.edu.au/event/year-11-atar-study-afternoon
CATEGORIES:Year 11
END:VEVENT
BEGIN:VEVENT
DTSTART;TZID=Australia/Perth:20210303T090000
DTEND;TZID=Australia/Perth:20210303T110000
DTSTAMP:20260420T092858
CREATED:20210301T073034Z
LAST-MODIFIED:20210201T073439Z
UID:10782-1614762000-1614769200@www.egc.wa.edu.au
SUMMARY:OLNA WORKSHOP
DESCRIPTION:OLNA Workshop for Yr 11 and 12 students who have not successfully passed their OLNA \nMrs Kingston Room 712 106
URL:https://www.egc.wa.edu.au/event/olna-workshop-16
CATEGORIES:Year 11,Year 12
END:VEVENT
BEGIN:VEVENT
DTSTART;TZID=Australia/Perth:20201214T082000
DTEND;TZID=Australia/Perth:20201217T151500
DTSTAMP:20260420T092858
CREATED:20201208T022730Z
LAST-MODIFIED:20201208T022741Z
UID:10640-1607934000-1608218100@www.egc.wa.edu.au
SUMMARY:Year 11 Transition
DESCRIPTION:Students enrolling in year 11 in 2021 will be shown around the campus and they will be learning all about subject choices and adult ethos.
URL:https://www.egc.wa.edu.au/event/year-11-transition
CATEGORIES:Year 11
END:VEVENT
BEGIN:VEVENT
DTSTART;TZID=Australia/Perth:20200805T100000
DTEND;TZID=Australia/Perth:20200805T223000
DTSTAMP:20260420T092858
CREATED:20200727T073019Z
LAST-MODIFIED:20200727T073019Z
UID:10521-1596621600-1596666600@www.egc.wa.edu.au
SUMMARY:VET Certificates on offer for Year 12 students in 2021
DESCRIPTION:Mrs Seghini – VET Coodinator will go through all the certificates on offer for Year 12 students in 2021 \nYear 11’s \n10am \nRoom 712 205 \n 
URL:https://www.egc.wa.edu.au/event/vet-certificates-on-offer-for-year-12-students-in-2021
LOCATION:ROOM 712 205
CATEGORIES:Year 11
END:VEVENT
BEGIN:VEVENT
DTSTART;TZID=Australia/Perth:20200805T100000
DTEND;TZID=Australia/Perth:20200805T110000
DTSTAMP:20260420T092858
CREATED:20200701T075907Z
LAST-MODIFIED:20200803T030732Z
UID:10470-1596621600-1596625200@www.egc.wa.edu.au
SUMMARY:Wednesday Workshop
DESCRIPTION:Guest Speaker 10 am – Mr Tom Mitchell – Head of College St Thomas More Accommodation \nUnivesity accommodation  for Year 11 and 12 ATAR and general studies students \n10am in Student Services
URL:https://www.egc.wa.edu.au/event/wednesday-workshop-10
LOCATION:Student Services
CATEGORIES:Year 11,Year 12
END:VEVENT
BEGIN:VEVENT
DTSTART;VALUE=DATE:20200721
DTEND;VALUE=DATE:20200722
DTSTAMP:20260420T092858
CREATED:20200701T075508Z
LAST-MODIFIED:20200701T075508Z
UID:10466-1595289600-1595375999@www.egc.wa.edu.au
SUMMARY:Students Commence
DESCRIPTION:
URL:https://www.egc.wa.edu.au/event/students-commence-2
CATEGORIES:Year 11,Year 12
END:VEVENT
BEGIN:VEVENT
DTSTART;TZID=Australia/Perth:20200318T090000
DTEND;TZID=Australia/Perth:20200318T100000
DTSTAMP:20260420T092858
CREATED:20200210T075145Z
LAST-MODIFIED:20200210T075145Z
UID:10035-1584522000-1584525600@www.egc.wa.edu.au
SUMMARY:Wednesday Workshop
DESCRIPTION:University Roadshow \nRepresentatives from a variety of Universities will attend this workshop \nYear 11 and 12 ATAR and General Studies students \n9-10 am \nRoom 712 205/206
URL:https://www.egc.wa.edu.au/event/wednesday-workshop-4
LOCATION:ROOM 712 205/206
CATEGORIES:Year 11,Year 12
END:VEVENT
BEGIN:VEVENT
DTSTART;TZID=Australia/Perth:20200311T090000
DTEND;TZID=Australia/Perth:20200311T110000
DTSTAMP:20260420T092858
CREATED:20200210T072739Z
LAST-MODIFIED:20200210T073049Z
UID:10026-1583917200-1583924400@www.egc.wa.edu.au
SUMMARY:OLNA Workshop
DESCRIPTION:March 11 @ 9:00 am – 11:00 am\n\n\nOLNA Workshops held every Wednesday 9am to 11am in 712 106 with Miss Smith and Mrs Kingston. \nStudents who have not successfully passed their OLNA must make the OLNA workshops their priority.
URL:https://www.egc.wa.edu.au/event/olna-workshop-5
LOCATION:ROOM 712 106
CATEGORIES:Year 11,Year 12
END:VEVENT
BEGIN:VEVENT
DTSTART;TZID=Australia/Perth:20200304T090000
DTEND;TZID=Australia/Perth:20200304T110000
DTSTAMP:20260420T092858
CREATED:20200210T072356Z
LAST-MODIFIED:20200210T072356Z
UID:10021-1583312400-1583319600@www.egc.wa.edu.au
SUMMARY:OLNA Workshop
DESCRIPTION:OLNA Workshops\n\nMarch 4 @ 9:00 am – 11:00 am\n\n\n\nOLNA Workshops held every Wednesday 9am to 11am in 712 106 with Miss Smith and Mrs Kingston. \nStudents who have not successfully passed their OLNA must make the OLNA workshops their priority.
URL:https://www.egc.wa.edu.au/event/olna-workshop-3
LOCATION:ROOM 712 106
CATEGORIES:Year 11,Year 12
END:VEVENT
END:VCALENDAR