BEGIN:VCALENDAR
VERSION:2.0
PRODID:-//Eastern Goldfields College - ECPv6.10.1.1//NONSGML v1.0//EN
CALSCALE:GREGORIAN
METHOD:PUBLISH
X-ORIGINAL-URL:https://www.egc.wa.edu.au
X-WR-CALDESC:Events for Eastern Goldfields College
REFRESH-INTERVAL;VALUE=DURATION:PT1H
X-Robots-Tag:noindex
X-PUBLISHED-TTL:PT1H
BEGIN:VTIMEZONE
TZID:Australia/Perth
BEGIN:STANDARD
TZOFFSETFROM:+0800
TZOFFSETTO:+0800
TZNAME:AWST
DTSTART:20240101T000000
END:STANDARD
END:VTIMEZONE
BEGIN:VEVENT
DTSTART;TZID=Australia/Perth:20240603T000000
DTEND;TZID=Australia/Perth:20240603T235959
DTSTAMP:20260426T062429
CREATED:20240416T042128Z
LAST-MODIFIED:20240416T042129Z
UID:12317-1717372800-1717459199@www.egc.wa.edu.au
SUMMARY:WA Day Public Holiday
DESCRIPTION:Office is closed
URL:https://www.egc.wa.edu.au/event/wa-day-public-holiday-3
CATEGORIES:Holidays
END:VEVENT
BEGIN:VEVENT
DTSTART;TZID=Australia/Perth:20240629T080000
DTEND;TZID=Australia/Perth:20240715T170000
DTSTAMP:20260426T062429
CREATED:20230905T032816Z
LAST-MODIFIED:20231205T032714Z
UID:12161-1719648000-1721062800@www.egc.wa.edu.au
SUMMARY:School Holidays
DESCRIPTION:Term 2 Holidays Saturday 29 June to Monday 15 July\, 2024 \n(Monday 15 July – School Development Day)
URL:https://www.egc.wa.edu.au/event/school-holidays-14
CATEGORIES:Holidays
END:VEVENT
BEGIN:VEVENT
DTSTART;TZID=Australia/Perth:20240921T080000
DTEND;TZID=Australia/Perth:20241006T170000
DTSTAMP:20260426T062429
CREATED:20230905T033007Z
LAST-MODIFIED:20230905T033008Z
UID:12164-1726905600-1728234000@www.egc.wa.edu.au
SUMMARY:School Holidays
DESCRIPTION:Term 3 School Holidays\n\nFrom Saturday 21 September to Sunday 6 October\, 2024
URL:https://www.egc.wa.edu.au/event/school-holidays-15
CATEGORIES:Holidays
END:VEVENT
BEGIN:VEVENT
DTSTART;TZID=Australia/Perth:20241213T160000
DTEND;TZID=Australia/Perth:20250129T160000
DTSTAMP:20260426T062429
CREATED:20230905T033339Z
LAST-MODIFIED:20241029T034004Z
UID:12167-1734105600-1738166400@www.egc.wa.edu.au
SUMMARY:School Holidays Office Closed
DESCRIPTION:Office closes Friday 13 December at 4 pm until  Thursday 30 January\, 2025 (Staff)  and Wednesday 5 February\, 2025 (students commence)
URL:https://www.egc.wa.edu.au/event/school-holidays-office-closed
CATEGORIES:Holidays
END:VEVENT
END:VCALENDAR