BEGIN:VCALENDAR
VERSION:2.0
PRODID:-//Eastern Goldfields College - ECPv6.10.1.1//NONSGML v1.0//EN
CALSCALE:GREGORIAN
METHOD:PUBLISH
X-ORIGINAL-URL:https://www.egc.wa.edu.au
X-WR-CALDESC:Events for Eastern Goldfields College
REFRESH-INTERVAL;VALUE=DURATION:PT1H
X-Robots-Tag:noindex
X-PUBLISHED-TTL:PT1H
BEGIN:VTIMEZONE
TZID:Australia/Perth
BEGIN:STANDARD
TZOFFSETFROM:+0800
TZOFFSETTO:+0800
TZNAME:AWST
DTSTART:20190101T000000
END:STANDARD
END:VTIMEZONE
BEGIN:VEVENT
DTSTART;TZID=Australia/Perth:20240425T000000
DTEND;TZID=Australia/Perth:20240425T235959
DTSTAMP:20260420T060219
CREATED:20240416T042014Z
LAST-MODIFIED:20240416T042016Z
UID:12314-1714003200-1714089599@www.egc.wa.edu.au
SUMMARY:ANZAC Day
DESCRIPTION:Public Holiday – Office is closed
URL:https://www.egc.wa.edu.au/event/anzac-day
CATEGORIES:Holidays
END:VEVENT
BEGIN:VEVENT
DTSTART;TZID=Australia/Perth:20240329T080000
DTEND;TZID=Australia/Perth:20240414T170000
DTSTAMP:20260420T060219
CREATED:20230905T032612Z
LAST-MODIFIED:20230905T032613Z
UID:12158-1711699200-1713114000@www.egc.wa.edu.au
SUMMARY:School Holidays
DESCRIPTION:Term 1 Holidays\n\nFriday 29 March to Sunday 14 April\, 2024
URL:https://www.egc.wa.edu.au/event/school-holidays-13
CATEGORIES:Holidays
END:VEVENT
BEGIN:VEVENT
DTSTART;TZID=Australia/Perth:20231215T160000
DTEND;TZID=Australia/Perth:20240124T080000
DTSTAMP:20260420T060219
CREATED:20230905T031422Z
LAST-MODIFIED:20231205T032010Z
UID:12149-1702656000-1706083200@www.egc.wa.edu.au
SUMMARY:Office Closed
DESCRIPTION:Office Closes Friday 15 December 4 pm until Wednesday 24 January\, 2024   at  8 am
URL:https://www.egc.wa.edu.au/event/office-closed-2
CATEGORIES:Holidays
END:VEVENT
BEGIN:VEVENT
DTSTART;TZID=Australia/Perth:20230923T000000
DTEND;TZID=Australia/Perth:20231008T235959
DTSTAMP:20260420T060219
CREATED:20230905T021147Z
LAST-MODIFIED:20230905T021319Z
UID:12116-1695427200-1696809599@www.egc.wa.edu.au
SUMMARY:Holidays
DESCRIPTION:Last Day of School for Term 3 is Friday 22 September at 3:15 pm Term 4 Commences Monday 9 October at 8:20 am
URL:https://www.egc.wa.edu.au/event/holidays-2
CATEGORIES:Holidays
END:VEVENT
BEGIN:VEVENT
DTSTART;TZID=Australia/Perth:20230717T080000
DTEND;TZID=Australia/Perth:20230717T170000
DTSTAMP:20260420T060219
CREATED:20230403T051806Z
LAST-MODIFIED:20230403T051947Z
UID:12030-1689580800-1689613200@www.egc.wa.edu.au
SUMMARY:School Development Day
DESCRIPTION:School Development Day – For staff only   No students
URL:https://www.egc.wa.edu.au/event/school-development-day-4
CATEGORIES:Holidays
END:VEVENT
BEGIN:VEVENT
DTSTART;TZID=Australia/Perth:20230701T080000
DTEND;TZID=Australia/Perth:20230717T170000
DTSTAMP:20260420T060219
CREATED:20230403T051645Z
LAST-MODIFIED:20230403T051646Z
UID:12027-1688198400-1689613200@www.egc.wa.edu.au
SUMMARY:School Holidays
DESCRIPTION:School Holidays from 1 July to 17 July
URL:https://www.egc.wa.edu.au/event/school-holidays-12
CATEGORIES:Holidays
END:VEVENT
BEGIN:VEVENT
DTSTART;TZID=Australia/Perth:20230605T000000
DTEND;TZID=Australia/Perth:20230605T235959
DTSTAMP:20260420T060219
CREATED:20230403T050520Z
LAST-MODIFIED:20230403T050520Z
UID:12006-1685923200-1686009599@www.egc.wa.edu.au
SUMMARY:WA Day - Public Holiday
DESCRIPTION:Public Holiday – School closed
URL:https://www.egc.wa.edu.au/event/wa-day-public-holiday-2
CATEGORIES:Holidays
END:VEVENT
BEGIN:VEVENT
DTSTART;TZID=Australia/Perth:20230407T000000
DTEND;TZID=Australia/Perth:20230425T235959
DTSTAMP:20260420T060219
CREATED:20230403T040628Z
LAST-MODIFIED:20230403T041042Z
UID:11956-1680825600-1682467199@www.egc.wa.edu.au
SUMMARY:School Holidays
DESCRIPTION:Students commence term 1 holidays at 3:15 pm Thursday 6 April and return Wednesday  26 April (Workshops)\, classes commence Thursday 27 April at 8:20 am.
URL:https://www.egc.wa.edu.au/event/school-holidays-11
CATEGORIES:Holidays
END:VEVENT
BEGIN:VEVENT
DTSTART;TZID=Australia/Perth:20220926T000000
DTEND;TZID=Australia/Perth:20221009T235959
DTSTAMP:20260420T060219
CREATED:20220720T023642Z
LAST-MODIFIED:20220720T023643Z
UID:11676-1664150400-1665359999@www.egc.wa.edu.au
SUMMARY:School Holidays
DESCRIPTION:School Holidays are from Monday 26 September to Sunday 9th October
URL:https://www.egc.wa.edu.au/event/school-holidays-10
CATEGORIES:Holidays
END:VEVENT
BEGIN:VEVENT
DTSTART;TZID=Australia/Perth:20220702T080000
DTEND;TZID=Australia/Perth:20220718T170000
DTSTAMP:20260420T060219
CREATED:20220502T063524Z
LAST-MODIFIED:20220502T063525Z
UID:11568-1656748800-1658163600@www.egc.wa.edu.au
SUMMARY:School Holidays
DESCRIPTION:
URL:https://www.egc.wa.edu.au/event/school-holidays-9
CATEGORIES:Holidays
END:VEVENT
BEGIN:VEVENT
DTSTART;TZID=Australia/Perth:20220606T080000
DTEND;TZID=Australia/Perth:20220606T170000
DTSTAMP:20260420T060219
CREATED:20220502T062421Z
LAST-MODIFIED:20220502T062421Z
UID:11544-1654502400-1654534800@www.egc.wa.edu.au
SUMMARY:WA Day Public Holiday
DESCRIPTION:WA Day – Monday 6 June 2022\n\nPublic Holiday
URL:https://www.egc.wa.edu.au/event/wa-day-public-holiday
CATEGORIES:Holidays
END:VEVENT
BEGIN:VEVENT
DTSTART;TZID=Australia/Perth:20220418T080000
DTEND;TZID=Australia/Perth:20220418T170000
DTSTAMP:20260420T060219
CREATED:20211214T031431Z
LAST-MODIFIED:20211214T031431Z
UID:11332-1650268800-1650301200@www.egc.wa.edu.au
SUMMARY:Easter Monday
DESCRIPTION:
URL:https://www.egc.wa.edu.au/event/easter-monday
CATEGORIES:Holidays
END:VEVENT
BEGIN:VEVENT
DTSTART;TZID=Australia/Perth:20220415T080000
DTEND;TZID=Australia/Perth:20220415T170000
DTSTAMP:20260420T060219
CREATED:20211214T031354Z
LAST-MODIFIED:20211214T031354Z
UID:11329-1650009600-1650042000@www.egc.wa.edu.au
SUMMARY:Good Friday
DESCRIPTION:
URL:https://www.egc.wa.edu.au/event/good-friday-2
CATEGORIES:Holidays
END:VEVENT
BEGIN:VEVENT
DTSTART;TZID=Australia/Perth:20220409T080000
DTEND;TZID=Australia/Perth:20220425T170000
DTSTAMP:20260420T060219
CREATED:20211214T031321Z
LAST-MODIFIED:20211214T031322Z
UID:11326-1649491200-1650906000@www.egc.wa.edu.au
SUMMARY:School Holidays
DESCRIPTION:School Holidays from Saturday 9 April to Monday 25th April (ANZAC DAY holiday)\n\nStudents commence TUESDAY 26 April
URL:https://www.egc.wa.edu.au/event/school-holidays-7
CATEGORIES:Holidays
END:VEVENT
BEGIN:VEVENT
DTSTART;TZID=Australia/Perth:20220307T080000
DTEND;TZID=Australia/Perth:20220307T170000
DTSTAMP:20260420T060219
CREATED:20211214T025817Z
LAST-MODIFIED:20211214T025906Z
UID:11298-1646640000-1646672400@www.egc.wa.edu.au
SUMMARY:Labour Day - Public Holiday
DESCRIPTION:Labour Day – Public Holiday Office is closed all day
URL:https://www.egc.wa.edu.au/event/labour-day-public-holiday
CATEGORIES:Holidays
END:VEVENT
BEGIN:VEVENT
DTSTART;TZID=Australia/Perth:20220126T080000
DTEND;TZID=Australia/Perth:20220126T170000
DTSTAMP:20260420T060219
CREATED:20211214T024019Z
LAST-MODIFIED:20211214T024019Z
UID:11268-1643184000-1643216400@www.egc.wa.edu.au
SUMMARY:Australia Day
DESCRIPTION:Australia Day – Office is closed
URL:https://www.egc.wa.edu.au/event/australia-day
CATEGORIES:Holidays
END:VEVENT
BEGIN:VEVENT
DTSTART;TZID=Australia/Perth:20211217T080000
DTEND;TZID=Australia/Perth:20220130T170000
DTSTAMP:20260420T060219
CREATED:20211214T031845Z
LAST-MODIFIED:20211214T031847Z
UID:11335-1639728000-1643562000@www.egc.wa.edu.au
SUMMARY:School Holidays
DESCRIPTION:Year 10 Students last day – Thursday 16 December\n\nTerm 1 – First day: Monday 31 January\, 2022\n\nEnjoy your break.
URL:https://www.egc.wa.edu.au/event/school-holidays-8
CATEGORIES:Holidays
END:VEVENT
BEGIN:VEVENT
DTSTART;TZID=Australia/Perth:20210924T080000
DTEND;TZID=Australia/Perth:20211010T170000
DTSTAMP:20260420T060219
CREATED:20201208T044145Z
LAST-MODIFIED:20201208T044150Z
UID:10731-1632470400-1633885200@www.egc.wa.edu.au
SUMMARY:School Holidays
DESCRIPTION:Term 3 Holidays are from Saturday 25 September to Monday 11 October\, 2021 \nOffice opens Monday 11 October
URL:https://www.egc.wa.edu.au/event/school-holidays-6
CATEGORIES:Holidays
END:VEVENT
BEGIN:VEVENT
DTSTART;TZID=Australia/Perth:20210719T080000
DTEND;TZID=Australia/Perth:20210719T170000
DTSTAMP:20260420T060219
CREATED:20210615T075112Z
LAST-MODIFIED:20210615T075244Z
UID:10993-1626681600-1626714000@www.egc.wa.edu.au
SUMMARY:Student Free Day
DESCRIPTION:Student free day Monday 19 July\, 2021 \nStudents commence Tuesday 20 July at 8:20am for Term 3
URL:https://www.egc.wa.edu.au/event/student-free-day
CATEGORIES:Holidays
END:VEVENT
BEGIN:VEVENT
DTSTART;TZID=Australia/Perth:20210703T080000
DTEND;TZID=Australia/Perth:20210718T170000
DTSTAMP:20260420T060219
CREATED:20201208T042333Z
LAST-MODIFIED:20210615T074953Z
UID:10710-1625299200-1626627600@www.egc.wa.edu.au
SUMMARY:Holidays
DESCRIPTION:Office closes at 4pm 2 July and reopens on Monday 19 July. \nStaff commence Monday 19 July – School Development Day \nStudents commence Tuesday 20 July
URL:https://www.egc.wa.edu.au/event/holidays
CATEGORIES:Holidays
END:VEVENT
BEGIN:VEVENT
DTSTART;TZID=Australia/Perth:20210607T080000
DTEND;TZID=Australia/Perth:20210607T170000
DTSTAMP:20260420T060219
CREATED:20201208T041334Z
LAST-MODIFIED:20201208T041342Z
UID:10698-1623052800-1623085200@www.egc.wa.edu.au
SUMMARY:Public Holiday - WA Day
DESCRIPTION:Office closed today
URL:https://www.egc.wa.edu.au/event/public-holiday-wa-day
CATEGORIES:Holidays
END:VEVENT
BEGIN:VEVENT
DTSTART;TZID=Australia/Perth:20210402T080000
DTEND;TZID=Australia/Perth:20210418T170000
DTSTAMP:20260420T060219
CREATED:20201208T035317Z
LAST-MODIFIED:20201208T035344Z
UID:10675-1617350400-1618765200@www.egc.wa.edu.au
SUMMARY:School Holidays
DESCRIPTION:School re commences for Term 2 on Monday 19 April 2021. \nOffice opens at 8am \n 
URL:https://www.egc.wa.edu.au/event/school-holidays-4
CATEGORIES:Holidays
END:VEVENT
BEGIN:VEVENT
DTSTART;TZID=Australia/Perth:20201218T000000
DTEND;TZID=Australia/Perth:20210131T000000
DTSTAMP:20260420T060219
CREATED:20201208T024209Z
LAST-MODIFIED:20201208T024217Z
UID:9882-1608249600-1612051200@www.egc.wa.edu.au
SUMMARY:School Holidays
DESCRIPTION:School re commences Monday 1st February 2021 at 8:20am until 3:15pm
URL:https://www.egc.wa.edu.au/event/school-holidays-5
CATEGORIES:Holidays
END:VEVENT
BEGIN:VEVENT
DTSTART;TZID=Australia/Perth:20200704T000000
DTEND;TZID=Australia/Perth:20200720T080000
DTSTAMP:20260420T060219
CREATED:20200701T075238Z
LAST-MODIFIED:20200701T075410Z
UID:10463-1593820800-1595232000@www.egc.wa.edu.au
SUMMARY:School Holidays
DESCRIPTION:0
URL:https://www.egc.wa.edu.au/event/school-holidays-3
CATEGORIES:Holidays
END:VEVENT
BEGIN:VEVENT
DTSTART;TZID=Australia/Perth:20200427T080000
DTEND;TZID=Australia/Perth:20200427T170000
DTSTAMP:20260420T060219
CREATED:20191211T065904Z
LAST-MODIFIED:20191211T065905Z
UID:9958-1587974400-1588006800@www.egc.wa.edu.au
SUMMARY:Public Holiday
DESCRIPTION:Public Holiday – ANZAC Day
URL:https://www.egc.wa.edu.au/event/public-holiday-3
CATEGORIES:Holidays
END:VEVENT
BEGIN:VEVENT
DTSTART;TZID=Australia/Perth:20200410T080000
DTEND;TZID=Australia/Perth:20200427T170000
DTSTAMP:20260420T060219
CREATED:20191211T065705Z
LAST-MODIFIED:20191211T065706Z
UID:9952-1586505600-1588006800@www.egc.wa.edu.au
SUMMARY:School Holidays
DESCRIPTION:
URL:https://www.egc.wa.edu.au/event/school-holidays-2
CATEGORIES:Holidays
END:VEVENT
BEGIN:VEVENT
DTSTART;TZID=Australia/Perth:20200410T080000
DTEND;TZID=Australia/Perth:20200410T170000
DTSTAMP:20260420T060219
CREATED:20191211T065533Z
LAST-MODIFIED:20191211T065533Z
UID:9949-1586505600-1586538000@www.egc.wa.edu.au
SUMMARY:Good Friday
DESCRIPTION:
URL:https://www.egc.wa.edu.au/event/good-friday
CATEGORIES:Holidays
END:VEVENT
BEGIN:VEVENT
DTSTART;TZID=Australia/Perth:20200127T000000
DTEND;TZID=Australia/Perth:20200127T235959
DTSTAMP:20260420T060219
CREATED:20191211T062600Z
LAST-MODIFIED:20191211T062600Z
UID:9898-1580083200-1580169599@www.egc.wa.edu.au
SUMMARY:Australia Day Holiday
DESCRIPTION:Australia Day Public Holiday
URL:https://www.egc.wa.edu.au/event/australia-day-holiday
CATEGORIES:Holidays
END:VEVENT
BEGIN:VEVENT
DTSTART;TZID=Australia/Perth:20191219T000000
DTEND;TZID=Australia/Perth:20200202T235959
DTSTAMP:20260420T060220
CREATED:20191209T044737Z
LAST-MODIFIED:20191211T062902Z
UID:9883-1576713600-1580687999@www.egc.wa.edu.au
SUMMARY:School Holidays
DESCRIPTION:Please note\, school holidays are from 3:15 pm on Friday\, 19/12/2019 util 08:20 am on Monday\, 3/02/2020.
URL:https://www.egc.wa.edu.au/event/school-holidays
CATEGORIES:Holidays
END:VEVENT
BEGIN:VEVENT
DTSTART;TZID=Australia/Perth:20190302T080000
DTEND;TZID=Australia/Perth:20190302T170000
DTSTAMP:20260420T060220
CREATED:20191211T064812Z
LAST-MODIFIED:20191211T064813Z
UID:9934-1551513600-1551546000@www.egc.wa.edu.au
SUMMARY:Labour Day Holiday
DESCRIPTION:Public holiday – Labour Day
URL:https://www.egc.wa.edu.au/event/labour-day-holiday
CATEGORIES:Holidays
END:VEVENT
END:VCALENDAR