BEGIN:VCALENDAR
VERSION:2.0
PRODID:-//Eastern Goldfields College - ECPv6.10.1.1//NONSGML v1.0//EN
CALSCALE:GREGORIAN
METHOD:PUBLISH
X-WR-CALNAME:Eastern Goldfields College
X-ORIGINAL-URL:https://www.egc.wa.edu.au
X-WR-CALDESC:Events for Eastern Goldfields College
REFRESH-INTERVAL;VALUE=DURATION:PT1H
X-Robots-Tag:noindex
X-PUBLISHED-TTL:PT1H
BEGIN:VTIMEZONE
TZID:Australia/Perth
BEGIN:STANDARD
TZOFFSETFROM:+0800
TZOFFSETTO:+0800
TZNAME:AWST
DTSTART:20240101T000000
END:STANDARD
END:VTIMEZONE
BEGIN:VEVENT
DTSTART;TZID=Australia/Perth:20241209T080000
DTEND;TZID=Australia/Perth:20241212T170000
DTSTAMP:20260418T060435
CREATED:20240430T045332Z
LAST-MODIFIED:20240430T045333Z
UID:12408-1733731200-1734022800@www.egc.wa.edu.au
SUMMARY:Year 10 Transition
DESCRIPTION:Students currently in Year 10 attend a transtion into Year 11 – 2025 in week 10.\n\n \n\nMonday 9 December to Thursday 12 December inclusive.
URL:https://www.egc.wa.edu.au/event/year-10-transition-5
CATEGORIES:General
END:VEVENT
END:VCALENDAR