BEGIN:VCALENDAR
VERSION:2.0
PRODID:-//Eastern Goldfields College - ECPv6.10.1.1//NONSGML v1.0//EN
CALSCALE:GREGORIAN
METHOD:PUBLISH
X-ORIGINAL-URL:https://www.egc.wa.edu.au
X-WR-CALDESC:Events for Eastern Goldfields College
REFRESH-INTERVAL;VALUE=DURATION:PT1H
X-Robots-Tag:noindex
X-PUBLISHED-TTL:PT1H
BEGIN:VTIMEZONE
TZID:Australia/Perth
BEGIN:STANDARD
TZOFFSETFROM:+0800
TZOFFSETTO:+0800
TZNAME:AWST
DTSTART:20220101T000000
END:STANDARD
END:VTIMEZONE
BEGIN:VEVENT
DTSTART;TZID=Australia/Perth:20220622T090000
DTEND;TZID=Australia/Perth:20220622T110000
DTSTAMP:20260423T183454
CREATED:20220503T035919Z
LAST-MODIFIED:20220503T035920Z
UID:11614-1655888400-1655895600@www.egc.wa.edu.au
SUMMARY:OLNA Support
DESCRIPTION:OLNA Numeracy & Reading\n\nOLNA support in the lead up to round 2.\n\nMrs Kingston  and Individual tutors\n\n9:00 – 11:00 ROOM: 712 106\n\nOLNA Writing\n\nOLNA support in the lead up to round 2\n\nMrs Fowler 9:00 – 11:00 ROOM: 712 107
URL:https://www.egc.wa.edu.au/event/olna-support-7
LOCATION:712 106
END:VEVENT
BEGIN:VEVENT
DTSTART;TZID=Australia/Perth:20220622T100000
DTEND;TZID=Australia/Perth:20220622T110000
DTSTAMP:20260423T183454
CREATED:20220503T040101Z
LAST-MODIFIED:20220503T040102Z
UID:11617-1655892000-1655895600@www.egc.wa.edu.au
SUMMARY:Final Dance Practice
DESCRIPTION:Year 12 Floorshow Ball Practice\n\nKalgoorlie Town Hall\n\n \n\n10-11am\n\n 
URL:https://www.egc.wa.edu.au/event/final-dance-practice
LOCATION:Kalgoorlie Town Hall
CATEGORIES:Year 12
END:VEVENT
END:VCALENDAR