BEGIN:VCALENDAR
VERSION:2.0
PRODID:-//Eastern Goldfields College - ECPv6.10.1.1//NONSGML v1.0//EN
CALSCALE:GREGORIAN
METHOD:PUBLISH
X-WR-CALNAME:Eastern Goldfields College
X-ORIGINAL-URL:https://www.egc.wa.edu.au
X-WR-CALDESC:Events for Eastern Goldfields College
REFRESH-INTERVAL;VALUE=DURATION:PT1H
X-Robots-Tag:noindex
X-PUBLISHED-TTL:PT1H
BEGIN:VTIMEZONE
TZID:Australia/Perth
BEGIN:STANDARD
TZOFFSETFROM:+0800
TZOFFSETTO:+0800
TZNAME:AWST
DTSTART:20220101T000000
END:STANDARD
END:VTIMEZONE
BEGIN:VEVENT
DTSTART;TZID=Australia/Perth:20220527T080000
DTEND;TZID=Australia/Perth:20220603T170000
DTSTAMP:20260417T183251
CREATED:20220502T041342Z
LAST-MODIFIED:20220502T041342Z
UID:11524-1653638400-1654275600@www.egc.wa.edu.au
SUMMARY:National Reconciliation Week
DESCRIPTION:National Reconciliation Week\n\nFriday 27 May to Friday 3 June\n\n 
URL:https://www.egc.wa.edu.au/event/national-reconciliation-week
CATEGORIES:General
END:VEVENT
END:VCALENDAR